BEGIN:VCALENDAR
VERSION:2.0
PRODID:-//eventon.com NONSGML v1.0//EN
BEGIN:VEVENT
UID:69ecb3916d51f
DTSTAMP:20260425T142905
DTSTART:20180126T220500Z
DTEND:20180127T215500Z
LOCATION:
SUMMARY:Waldböckelheim (Fastnacht) 21:00
DESCRIPTION: Waldböckelheim (Fastnacht) 21:00
END:VEVENT
END:VCALENDAR