BEGIN:VCALENDAR
VERSION:2.0
PRODID:-//eventon.com NONSGML v1.0//EN
BEGIN:VEVENT
UID:69ec98413a0d7
DTSTAMP:20260425T123233
DTSTART:20190111T220500Z
DTEND:20190119T215500Z
LOCATION:
SUMMARY:Mannheim\,  Schatzkistl\,  Chill mal
DESCRIPTION: Mannheim\,  Schatzkistl\,  Chill mal
END:VEVENT
END:VCALENDAR