BEGIN:VCALENDAR
VERSION:2.0
PRODID:-//eventon.com NONSGML v1.0//EN
BEGIN:VEVENT
UID:69ec3d806b867
DTSTAMP:20260425T060520
DTSTART:20190509T220500Z
DTEND:20190510T215500Z
LOCATION:
SUMMARY:Hemmingen (bei Hannover)\,  Bauhof\,  Generation Teenietus
DESCRIPTION: Hemmingen (bei Hannover)\,  Bauhof\,  Generation Teenietus
END:VEVENT
END:VCALENDAR