BEGIN:VCALENDAR
VERSION:2.0
PRODID:-//eventon.com NONSGML v1.0//EN
BEGIN:VEVENT
UID:69ec247ce7274
DTSTAMP:20260425T041836
DTSTART:20190514T220000Z
DTEND:20190514T220000Z
LOCATION:
SUMMARY:Stuttgart\,  Renitenz Theater\,  Chill mal
DESCRIPTION: Stuttgart\,  Renitenz Theater\,  Chill mal
END:VEVENT
END:VCALENDAR