BEGIN:VCALENDAR
VERSION:2.0
PRODID:-//eventon.com NONSGML v1.0//EN
BEGIN:VEVENT
UID:69ec0a98dc6ff
DTSTAMP:20260425T022808
DTSTART:20181203T220500Z
DTEND:20181204T215500Z
LOCATION:
SUMMARY:Zürich\,  Miller's\,  Generation Teenietus
DESCRIPTION: Zürich\,  Miller's\,  Generation Teenietus
END:VEVENT
END:VCALENDAR