BEGIN:VCALENDAR
VERSION:2.0
PRODID:-//eventon.com NONSGML v1.0//EN
BEGIN:VEVENT
UID:69ebf2d8d068e
DTSTAMP:20260425T004648
DTSTART:20190322T220500Z
DTEND:20190323T215500Z
LOCATION:
SUMMARY:Dortmund\,  Wichern\,  Chill mal
DESCRIPTION: Dortmund\,  Wichern\,  Chill mal
END:VEVENT
END:VCALENDAR