BEGIN:VCALENDAR
VERSION:2.0
PRODID:-//eventon.com NONSGML v1.0//EN
BEGIN:VEVENT
UID:69ebde00bc93f
DTSTAMP:20260424T231752
DTSTART:20180918T220500Z
DTEND:20180919T215500Z
LOCATION:
SUMMARY:Bremen\,  Theaterschiff\,  Chill mal
DESCRIPTION: Bremen\,  Theaterschiff\,  Chill mal
END:VEVENT
END:VCALENDAR