BEGIN:VCALENDAR
VERSION:2.0
PRODID:-//eventon.com NONSGML v1.0//EN
BEGIN:VEVENT
UID:69ebc9710256f
DTSTAMP:20260424T215009
DTSTART:20190327T220500Z
DTEND:20190328T215500Z
LOCATION:
SUMMARY:Schweinfurt\,  Disharmonie\,  Chill mal
DESCRIPTION: Schweinfurt\,  Disharmonie\,  Chill mal
END:VEVENT
END:VCALENDAR