BEGIN:VCALENDAR
VERSION:2.0
PRODID:-//eventon.com NONSGML v1.0//EN
BEGIN:VEVENT
UID:69ebb3b052830
DTSTAMP:20260424T201720
DTSTART:20181015T220500Z
DTEND:20181016T215500Z
LOCATION:
SUMMARY:Bernkastel-Kues\,  Güterhalle\,  Mixshow
DESCRIPTION: Bernkastel-Kues\,  Güterhalle\,  Mixshow
END:VEVENT
END:VCALENDAR