BEGIN:VCALENDAR
VERSION:2.0
PRODID:-//eventon.com NONSGML v1.0//EN
BEGIN:VEVENT
UID:69eba001dcaa3
DTSTAMP:20260424T185321
DTSTART:20180123T220500Z
DTEND:20180124T215500Z
LOCATION:
SUMMARY:Bad Wildungen\,  Maritim Hotel\,  JAV-Konferenz (geschl. Gesellschaft)
DESCRIPTION: Bad Wildungen\,  Maritim Hotel\,  JAV-Konferenz (geschl. Gesellschaft)
END:VEVENT
END:VCALENDAR