BEGIN:VCALENDAR
VERSION:2.0
PRODID:-//eventon.com NONSGML v1.0//EN
BEGIN:VEVENT
UID:69eb87e5a6550
DTSTAMP:20260424T171029
DTSTART:20181023T220500Z
DTEND:20181024T215500Z
LOCATION:
SUMMARY:Fulda\,  Kulturkeller\,  Generation Teenietus
DESCRIPTION: Fulda\,  Kulturkeller\,  Generation Teenietus
END:VEVENT
END:VCALENDAR