BEGIN:VCALENDAR
VERSION:2.0
PRODID:-//eventon.com NONSGML v1.0//EN
BEGIN:VEVENT
UID:69eb57e396363
DTSTAMP:20260424T134539
DTSTART:20180417T220500Z
DTEND:20180418T215500Z
LOCATION:
SUMMARY:Bonn\,  World Conference Center\,  CC-Symposium (Key Note Speaker)
DESCRIPTION: Bonn\,  World Conference Center\,  CC-Symposium (Key Note Speaker)
END:VEVENT
END:VCALENDAR