BEGIN:VCALENDAR
VERSION:2.0
PRODID:-//eventon.com NONSGML v1.0//EN
BEGIN:VEVENT
UID:69eb3e105b143
DTSTAMP:20260424T115528
DTSTART:20190118T220500Z
DTEND:20190119T215500Z
LOCATION:
SUMMARY:Braunschweig\,  Residenzschloss Roter Saal\,  Generation Teenietus (VVK Start Juni 2018)
DESCRIPTION: Braunschweig\,  Residenzschloss Roter Saal\,  Generation Teenietus (VVK Start Juni 2018)
END:VEVENT
END:VCALENDAR