BEGIN:VCALENDAR
VERSION:2.0
PRODID:-//eventon.com NONSGML v1.0//EN
BEGIN:VEVENT
UID:69e8bccc99df6
DTSTAMP:20260422T141924
DTSTART:20180419T220500Z
DTEND:20180420T215500Z
LOCATION:
SUMMARY:Tettnang\,  Neues Schloß\,  Generation Teenietus (VVK Start 18.12.)
DESCRIPTION: Tettnang\,  Neues Schloß\,  Generation Teenietus (VVK Start 18.12.)
END:VEVENT
END:VCALENDAR