BEGIN:VCALENDAR
VERSION:2.0
PRODID:-//eventon.com NONSGML v1.0//EN
BEGIN:VEVENT
UID:69e8a2127e62a
DTSTAMP:20260422T122522
DTSTART:20190531T220500Z
DTEND:20190601T215500Z
LOCATION:
SUMMARY:Düsseldorf\,  Kabarett Flin\,  Chill mal
DESCRIPTION: Düsseldorf\,  Kabarett Flin\,  Chill mal
END:VEVENT
END:VCALENDAR