BEGIN:VCALENDAR
VERSION:2.0
PRODID:-//eventon.com NONSGML v1.0//EN
BEGIN:VEVENT
UID:69e65c2ec3d09
DTSTAMP:20260420T190238
DTSTART:20190213T220500Z
DTEND:20190214T215500Z
LOCATION:
SUMMARY:Düsseldorf\,  Kabarett Flin\,  Chill mal
DESCRIPTION: Düsseldorf\,  Kabarett Flin\,  Chill mal
END:VEVENT
END:VCALENDAR