BEGIN:VCALENDAR
VERSION:2.0
PRODID:-//eventon.com NONSGML v1.0//EN
BEGIN:VEVENT
UID:69e6452322bfd
DTSTAMP:20260420T172419
DTSTART:20190927T220500Z
DTEND:20190928T215500Z
LOCATION:
SUMMARY:Marbach\,  Schlosskeller\,  Chill mal
DESCRIPTION: Marbach\,  Schlosskeller\,  Chill mal
END:VEVENT
END:VCALENDAR