BEGIN:VCALENDAR
VERSION:2.0
PRODID:-//eventon.com NONSGML v1.0//EN
BEGIN:VEVENT
UID:69e63127087bc
DTSTAMP:20260420T155903
DTSTART:20190314T220500Z
DTEND:20190315T215500Z
LOCATION:
SUMMARY:Zwingenberg\,  Theater Mobile\,  Chill mal
DESCRIPTION: Zwingenberg\,  Theater Mobile\,  Chill mal
END:VEVENT
END:VCALENDAR