BEGIN:VCALENDAR
VERSION:2.0
PRODID:-//eventon.com NONSGML v1.0//EN
BEGIN:VEVENT
UID:69e61b1e58454
DTSTAMP:20260420T142502
DTSTART:20190321T220500Z
DTEND:20190322T215500Z
LOCATION:
SUMMARY:Hamburg\,  Zinnschmelze\,  Chill mal
DESCRIPTION: Hamburg\,  Zinnschmelze\,  Chill mal
END:VEVENT
END:VCALENDAR