BEGIN:VCALENDAR
VERSION:2.0
PRODID:-//eventon.com NONSGML v1.0//EN
BEGIN:VEVENT
UID:69e603f6371ea
DTSTAMP:20260420T124614
DTSTART:20190330T220500Z
DTEND:20190331T215500Z
LOCATION:
SUMMARY:Balingen\,  Stadthalle\,  Chill mal
DESCRIPTION: Balingen\,  Stadthalle\,  Chill mal
END:VEVENT
END:VCALENDAR