BEGIN:VCALENDAR
VERSION:2.0
PRODID:-//eventon.com NONSGML v1.0//EN
BEGIN:VEVENT
UID:69e5ee459df1d
DTSTAMP:20260420T111341
DTSTART:20180803T220500Z
DTEND:20180804T215500Z
LOCATION:
SUMMARY:Hattersheim\,  Alter Posthof\,  Laugh Parade (Mixshow)
DESCRIPTION: Hattersheim\,  Alter Posthof\,  Laugh Parade (Mixshow)
END:VEVENT
END:VCALENDAR