BEGIN:VCALENDAR
VERSION:2.0
PRODID:-//eventon.com NONSGML v1.0//EN
BEGIN:VEVENT
UID:69e5cb9fad1e2
DTSTAMP:20260420T084551
DTSTART:20190522T220500Z
DTEND:20190523T215500Z
LOCATION:
SUMMARY:Sylt\,  Kursaal Rantum\,  Chill mal
DESCRIPTION: Sylt\,  Kursaal Rantum\,  Chill mal
END:VEVENT
END:VCALENDAR