BEGIN:VCALENDAR
VERSION:2.0
PRODID:-//eventon.com NONSGML v1.0//EN
BEGIN:VEVENT
UID:69e5af773c82b
DTSTAMP:20260420T064543
DTSTART:20190201T220500Z
DTEND:20190202T215500Z
LOCATION:
SUMMARY:Tübingen\,  Sudhaus\,  Chill mal
DESCRIPTION: Tübingen\,  Sudhaus\,  Chill mal
END:VEVENT
END:VCALENDAR