BEGIN:VCALENDAR
VERSION:2.0
PRODID:-//eventon.com NONSGML v1.0//EN
BEGIN:VEVENT
UID:69e59812cf5bc
DTSTAMP:20260420T050554
DTSTART:20180720T220500Z
DTEND:20180721T215500Z
LOCATION:
SUMMARY:Alf (Mosel)\,  Wald Villa Üssbach\,  Bühne unterm Sternezelt\,  Generation Teenietus
DESCRIPTION: Alf (Mosel)\,  Wald Villa Üssbach\,  Bühne unterm Sternezelt\,  Generation Teenietus
END:VEVENT
END:VCALENDAR