BEGIN:VCALENDAR
VERSION:2.0
PRODID:-//eventon.com NONSGML v1.0//EN
BEGIN:VEVENT
UID:69e57b52255aa
DTSTAMP:20260420T030314
DTSTART:20180902T220500Z
DTEND:20180903T215500Z
LOCATION:
SUMMARY:Köln\,  Hotel Matheisen\,  Chill mal
DESCRIPTION: Köln\,  Hotel Matheisen\,  Chill mal
END:VEVENT
END:VCALENDAR