BEGIN:VCALENDAR
VERSION:2.0
PRODID:-//eventon.com NONSGML v1.0//EN
BEGIN:VEVENT
UID:69e56262b9d8e
DTSTAMP:20260420T011650
DTSTART:20180928T220500Z
DTEND:20181013T215500Z
LOCATION:
SUMMARY:AIDA
DESCRIPTION: AIDA
END:VEVENT
END:VCALENDAR