BEGIN:VCALENDAR
VERSION:2.0
PRODID:-//eventon.com NONSGML v1.0//EN
BEGIN:VEVENT
UID:69e544b43ced6
DTSTAMP:20260419T231012
DTSTART:20190412T220500Z
DTEND:20190413T215500Z
LOCATION:
SUMMARY:Nierstein\,  Sironsaal\,  Generation Teenietus
DESCRIPTION: Nierstein\,  Sironsaal\,  Generation Teenietus
END:VEVENT
END:VCALENDAR