BEGIN:VCALENDAR
VERSION:2.0
PRODID:-//eventon.com NONSGML v1.0//EN
BEGIN:VEVENT
UID:69e529f8b45df
DTSTAMP:20260419T211608
DTSTART:20190404T220500Z
DTEND:20190405T215500Z
LOCATION:
SUMMARY:Bad Sobernheim\,  Kaisersaal\,  Generation Teenietus AUSVERKAUFT
DESCRIPTION: Bad Sobernheim\,  Kaisersaal\,  Generation Teenietus AUSVERKAUFT
END:VEVENT
END:VCALENDAR