BEGIN:VCALENDAR
VERSION:2.0
PRODID:-//eventon.com NONSGML v1.0//EN
BEGIN:VEVENT
UID:69e4fb36abe30
DTSTAMP:20260419T175638
DTSTART:20190110T220500Z
DTEND:20190111T215500Z
LOCATION:
SUMMARY:Mönchengladbach\,  TIG\,  Chill mal
DESCRIPTION: Mönchengladbach\,  TIG\,  Chill mal
END:VEVENT
END:VCALENDAR