BEGIN:VCALENDAR
VERSION:2.0
PRODID:-//eventon.com NONSGML v1.0//EN
BEGIN:VEVENT
UID:69e4e5906d416
DTSTAMP:20260419T162416
DTSTART:20190308T220500Z
DTEND:20190309T215500Z
LOCATION:
SUMMARY:Untergruppenbach\,  Burg Stettenfels\,  Chill mal
DESCRIPTION: Untergruppenbach\,  Burg Stettenfels\,  Chill mal
END:VEVENT
END:VCALENDAR