BEGIN:VCALENDAR
VERSION:2.0
PRODID:-//eventon.com NONSGML v1.0//EN
BEGIN:VEVENT
UID:69e4ca2fc9872
DTSTAMP:20260419T142727
DTSTART:20180912T220500Z
DTEND:20180913T215500Z
LOCATION:
SUMMARY:Salzbergen\,  Kulturkeller\,  Generation Teenietus
DESCRIPTION: Salzbergen\,  Kulturkeller\,  Generation Teenietus
END:VEVENT
END:VCALENDAR