BEGIN:VCALENDAR
VERSION:2.0
PRODID:-//eventon.com NONSGML v1.0//EN
BEGIN:VEVENT
UID:69e739042259e
DTSTAMP:20260421T104452
DTSTART:20180321T220500Z
DTEND:20180322T215500Z
LOCATION:
SUMMARY:Hamburg\,  Goldbekhaus\,  Generation Teenietus
DESCRIPTION: Hamburg\,  Goldbekhaus\,  Generation Teenietus
END:VEVENT
END:VCALENDAR