BEGIN:VCALENDAR
VERSION:2.0
PRODID:-//eventon.com NONSGML v1.0//EN
BEGIN:VEVENT
UID:69e6594fc90d8
DTSTAMP:20260420T185023
DTSTART:20170824T220500Z
DTEND:20170825T215500Z
LOCATION:
SUMMARY:Goch\,  Museumsgarten\,  Comedy Schmiede Mixshow
DESCRIPTION: Goch\,  Museumsgarten\,  Comedy Schmiede Mixshow
END:VEVENT
END:VCALENDAR