BEGIN:VCALENDAR
VERSION:2.0
PRODID:-//eventon.com NONSGML v1.0//EN
BEGIN:VEVENT
UID:69e603f63f6cb
DTSTAMP:20260420T124614
DTSTART:20180601T220500Z
DTEND:20180602T215500Z
LOCATION:
SUMMARY:Kirn\,  Gesellschaftshaus\,  Generation Teenietus
DESCRIPTION: Kirn\,  Gesellschaftshaus\,  Generation Teenietus
END:VEVENT
END:VCALENDAR