BEGIN:VCALENDAR
VERSION:2.0
PRODID:-//eventon.com NONSGML v1.0//EN
BEGIN:VEVENT
UID:69e61bd2a4018
DTSTAMP:20260420T142802
DTSTART:20180418T220500Z
DTEND:20180419T215500Z
LOCATION:
SUMMARY:Bodenheim\,  Kulturkeller im Dolles\,  Generation Teenietus
DESCRIPTION: Bodenheim\,  Kulturkeller im Dolles\,  Generation Teenietus
END:VEVENT
END:VCALENDAR