BEGIN:VCALENDAR
VERSION:2.0
PRODID:-//eventon.com NONSGML v1.0//EN
BEGIN:VEVENT
UID:69e6317a3ac9e
DTSTAMP:20260420T160026
DTSTART:20180406T220500Z
DTEND:20180407T215500Z
LOCATION:
SUMMARY:Budenheim\,  Bürgerhaus\,  Generation Teenietus
DESCRIPTION: Budenheim\,  Bürgerhaus\,  Generation Teenietus
END:VEVENT
END:VCALENDAR