BEGIN:VCALENDAR
VERSION:2.0
PRODID:-//eventon.com NONSGML v1.0//EN
BEGIN:VEVENT
UID:69e64ac64d9ac
DTSTAMP:20260420T174822
DTSTART:20180414T220500Z
DTEND:20180415T215500Z
LOCATION:
SUMMARY:Worms-Pfeddersheim\,  TSG-Halle\,  Generation Teenietus ABGESAGT
DESCRIPTION: Worms-Pfeddersheim\,  TSG-Halle\,  Generation Teenietus ABGESAGT
END:VEVENT
END:VCALENDAR