BEGIN:VCALENDAR
VERSION:2.0
PRODID:-//eventon.com NONSGML v1.0//EN
BEGIN:VEVENT
UID:69e66259b4ce2
DTSTAMP:20260420T192857
DTSTART:20180507T220500Z
DTEND:20180508T215500Z
LOCATION:
SUMMARY:Kempen\,  Forum St. Hubert\,  Kempener Comedy Nacht (Mixshow)
DESCRIPTION: Kempen\,  Forum St. Hubert\,  Kempener Comedy Nacht (Mixshow)
END:VEVENT
END:VCALENDAR