BEGIN:VCALENDAR
VERSION:2.0
PRODID:-//eventon.com NONSGML v1.0//EN
BEGIN:VEVENT
UID:69e67b524285e
DTSTAMP:20260420T211530
DTSTART:20180216T220500Z
DTEND:20180217T215500Z
LOCATION:
SUMMARY:Neustadt am Rübenberge\,  Theater am Bahnhof\,  Generation Teenietus
DESCRIPTION: Neustadt am Rübenberge\,  Theater am Bahnhof\,  Generation Teenietus
END:VEVENT
END:VCALENDAR