BEGIN:VCALENDAR
VERSION:2.0
PRODID:-//eventon.com NONSGML v1.0//EN
BEGIN:VEVENT
UID:69e6929a06e21
DTSTAMP:20260420T225450
DTSTART:20171011T220500Z
DTEND:20171012T215500Z
LOCATION:
SUMMARY:Braunschweig\,  Brunsviga	\,  Generation Teenietus
DESCRIPTION: Braunschweig\,  Brunsviga	\,  Generation Teenietus
END:VEVENT
END:VCALENDAR