BEGIN:VCALENDAR
VERSION:2.0
PRODID:-//eventon.com NONSGML v1.0//EN
BEGIN:VEVENT
UID:69e6aca40481a
DTSTAMP:20260421T004556
DTSTART:20190219T220500Z
DTEND:20190220T215500Z
LOCATION:
SUMMARY:Stuttgart\,  Besenwirtschaft Krug (Doppelabend) ABGESAGT - neuer Termin 01.11.
DESCRIPTION: Stuttgart\,  Besenwirtschaft Krug (Doppelabend) ABGESAGT - neuer Termin 01.11.
END:VEVENT
END:VCALENDAR