BEGIN:VCALENDAR
VERSION:2.0
PRODID:-//eventon.com NONSGML v1.0//EN
BEGIN:VEVENT
UID:69e6c832bc143
DTSTAMP:20260421T024330
DTSTART:20180504T220500Z
DTEND:20180505T215500Z
LOCATION:
SUMMARY:Lutterbek\,  Lutterbeker\,  Chill mal
DESCRIPTION: Lutterbek\,  Lutterbeker\,  Chill mal
END:VEVENT
END:VCALENDAR