BEGIN:VCALENDAR
VERSION:2.0
PRODID:-//eventon.com NONSGML v1.0//EN
BEGIN:VEVENT
UID:69e6e04ada64a
DTSTAMP:20260421T042618
DTSTART:20180405T220500Z
DTEND:20180406T215500Z
LOCATION:
SUMMARY:Dortmund\,  Cabaret Queue\,  Chill mal VORPREMIERE
DESCRIPTION: Dortmund\,  Cabaret Queue\,  Chill mal VORPREMIERE
END:VEVENT
END:VCALENDAR