BEGIN:VCALENDAR
VERSION:2.0
PRODID:-//eventon.com NONSGML v1.0//EN
BEGIN:VEVENT
UID:69e9f13a0f2cd
DTSTAMP:20260423T121522
DTSTART:20170910T220500Z
DTEND:20170911T215500Z
LOCATION:
SUMMARY:Datteln\,  Friedenskirche\,  Nachtschnittchen (Mix)
DESCRIPTION: Datteln\,  Friedenskirche\,  Nachtschnittchen (Mix)
END:VEVENT
END:VCALENDAR