BEGIN:VCALENDAR
VERSION:2.0
PRODID:-//eventon.com NONSGML v1.0//EN
BEGIN:VEVENT
UID:69ea07e02eae8
DTSTAMP:20260423T135200
DTSTART:20180503T220500Z
DTEND:20180504T215500Z
LOCATION:
SUMMARY:Oldenburg\,  Kulturzentrum Ofenerdiek\,  Chill mal
DESCRIPTION: Oldenburg\,  Kulturzentrum Ofenerdiek\,  Chill mal
END:VEVENT
END:VCALENDAR