BEGIN:VCALENDAR
VERSION:2.0
PRODID:-//eventon.com NONSGML v1.0//EN
BEGIN:VEVENT
UID:69ea200cd5de0
DTSTAMP:20260423T153508
DTSTART:20180222T220500Z
DTEND:20180223T215500Z
LOCATION:
SUMMARY:Osnabrück\,  Lagerhalle\,  Generation Teenietus
DESCRIPTION: Osnabrück\,  Lagerhalle\,  Generation Teenietus
END:VEVENT
END:VCALENDAR