BEGIN:VCALENDAR
VERSION:2.0
PRODID:-//eventon.com NONSGML v1.0//EN
BEGIN:VEVENT
UID:69ea378c9d118
DTSTAMP:20260423T171524
DTSTART:20180112T220500Z
DTEND:20180113T215500Z
LOCATION:
SUMMARY:Haßfurt\,  Rathaushalle\,  Generation Teenietus
DESCRIPTION: Haßfurt\,  Rathaushalle\,  Generation Teenietus
END:VEVENT
END:VCALENDAR