BEGIN:VCALENDAR
VERSION:2.0
PRODID:-//eventon.com NONSGML v1.0//EN
BEGIN:VEVENT
UID:69ea4c333b913
DTSTAMP:20260423T184331
DTSTART:20170403T220500Z
DTEND:20170404T215500Z
LOCATION:
SUMMARY:NDR Comedy Contest (TV-Aufzeichnung)
DESCRIPTION: NDR Comedy Contest (TV-Aufzeichnung)
END:VEVENT
END:VCALENDAR