BEGIN:VCALENDAR
VERSION:2.0
PRODID:-//eventon.com NONSGML v1.0//EN
BEGIN:VEVENT
UID:69ea68151cd7b
DTSTAMP:20260423T204229
DTSTART:20180516T220500Z
DTEND:20180517T215500Z
LOCATION:
SUMMARY:Wachtberg-Adendorf\,  Drehwerk 17/19\,  Chill mal
DESCRIPTION: Wachtberg-Adendorf\,  Drehwerk 17/19\,  Chill mal
END:VEVENT
END:VCALENDAR