BEGIN:VCALENDAR
VERSION:2.0
PRODID:-//eventon.com NONSGML v1.0//EN
BEGIN:VEVENT
UID:69ea800c00ba1
DTSTAMP:20260423T222444
DTSTART:20180413T220500Z
DTEND:20180414T215500Z
LOCATION:
SUMMARY:Spalt\,  Kulturbahnhof\,  Generation Teenietus
DESCRIPTION: Spalt\,  Kulturbahnhof\,  Generation Teenietus
END:VEVENT
END:VCALENDAR